BEGIN:VCALENDAR
VERSION:2.0
PRODID:-//Town of Port Blandford - ECPv6.15.20//NONSGML v1.0//EN
CALSCALE:GREGORIAN
METHOD:PUBLISH
X-ORIGINAL-URL:https://portblandford.com
X-WR-CALDESC:Events for Town of Port Blandford
REFRESH-INTERVAL;VALUE=DURATION:PT1H
X-Robots-Tag:noindex
X-PUBLISHED-TTL:PT1H
BEGIN:VTIMEZONE
TZID:UTC
BEGIN:STANDARD
TZOFFSETFROM:+0000
TZOFFSETTO:+0000
TZNAME:UTC
DTSTART:20250101T000000
END:STANDARD
END:VTIMEZONE
BEGIN:VTIMEZONE
TZID:America/St_Johns
BEGIN:DAYLIGHT
TZOFFSETFROM:-0330
TZOFFSETTO:-0230
TZNAME:NDT
DTSTART:20250309T053000
END:DAYLIGHT
BEGIN:STANDARD
TZOFFSETFROM:-0230
TZOFFSETTO:-0330
TZNAME:NST
DTSTART:20251102T043000
END:STANDARD
BEGIN:DAYLIGHT
TZOFFSETFROM:-0330
TZOFFSETTO:-0230
TZNAME:NDT
DTSTART:20260308T053000
END:DAYLIGHT
BEGIN:STANDARD
TZOFFSETFROM:-0230
TZOFFSETTO:-0330
TZNAME:NST
DTSTART:20261101T043000
END:STANDARD
BEGIN:DAYLIGHT
TZOFFSETFROM:-0330
TZOFFSETTO:-0230
TZNAME:NDT
DTSTART:20270314T053000
END:DAYLIGHT
BEGIN:STANDARD
TZOFFSETFROM:-0230
TZOFFSETTO:-0330
TZNAME:NST
DTSTART:20271107T043000
END:STANDARD
END:VTIMEZONE
BEGIN:VEVENT
DTSTART;TZID=UTC:20260601T080000
DTEND;TZID=UTC:20260831T170000
DTSTAMP:20260423T221949
CREATED:20260324T172722Z
LAST-MODIFIED:20260324T173203Z
UID:2405-1780300800-1788195600@portblandford.com
SUMMARY:Tea & Tours\, 2026 info coming soon…
DESCRIPTION:Hosted by the Heritage Society\, weekly Tea & Tours is a great way to learn about the history of Port Blandford\, and to enjoy homemade goodies\, including Port Blandford’s signature sandwich – carrot and cheese! Located at the Anglican Church\, meet in the basement (people will greet you!). Starts at 2:30pm. Event is free\, lunch is $5 (cash).  Watch the HS Facebook page. More August dates to follow!
URL:https://portblandford.com/event/tea-tours-2026-info-coming-soon/
LOCATION:NL
ATTACH;FMTTYPE=image/webp:https://portblandford.com/wp-content/uploads/2026/03/7T4A1344.webp
END:VEVENT
BEGIN:VEVENT
DTSTART;TZID=America/St_Johns:20260708T190000
DTEND;TZID=America/St_Johns:20260708T210000
DTSTAMP:20260423T221949
CREATED:20260324T165529Z
LAST-MODIFIED:20260422T185034Z
UID:2385-1783537200-1783544400@portblandford.com
SUMMARY:Back Porch Music Series Night 1
DESCRIPTION:Thank you for your support of the first The Back Porch Music Series at the new amphitheatre in Port Blandford’s municipal park! 2025 was a huge success and we look forward to 2026. \nExperience the best of Newfoundland’s musical talent with six free shows\, open to all. \nThe summer series promises great music\, good company\, and unforgettable evenings under the open sky. Bring your friends\, family\, and a love for live music—see you on the back porch! \nFollow our FACEBOOK for updates.  \n\n\n\n\n\n\n\n\n\n\nTips for the best experience: dress for changing weather (it’s Newfoundland\, anything can happen!)\, you’re welcome to bring food and drinks (sorry no alcohol permitted)\, these are FREE all ages shows (kids are welcome\, no money required)\, washrooms are near by at the rink\, the park is accessible to all – come any time to enjoy games and family-friendly activities.
URL:https://portblandford.com/event/backporchmusic/
LOCATION:Municipal Park / Amphitheater\, Ballfield road\, Port Blandford\, NL\, A0C2G0\, Canada
ATTACH;FMTTYPE=image/webp:https://portblandford.com/wp-content/uploads/2026/03/BackPorch.webp
ORGANIZER;CN="Community Development Commitee":MAILTO:Info@portblandford.com
END:VEVENT
BEGIN:VEVENT
DTSTART;TZID=UTC:20260715T190000
DTEND;TZID=UTC:20260715T210000
DTSTAMP:20260423T221949
CREATED:20260326T135240Z
LAST-MODIFIED:20260422T185053Z
UID:2438-1784142000-1784149200@portblandford.com
SUMMARY:Back Porch Music Series Night 2
DESCRIPTION:Thank you for your support of the first The Back Porch Music Series at the new amphitheatre in Port Blandford’s municipal park! 2025 was a huge success and we look forward to 2026. \nExperience the best of Newfoundland’s musical talent with six free shows\, open to all. \nThe summer series promises great music\, good company\, and unforgettable evenings under the open sky. Bring your friends\, family\, and a love for live music—see you on the back porch! \nFollow our FACEBOOK for updates.  \n\n\n\n\n\n\n\n\n\n\nTips for the best experience: dress for changing weather (it’s Newfoundland\, anything can happen!)\, you’re welcome to bring food and drinks (sorry no alcohol permitted)\, these are FREE all ages shows (kids are welcome\, no money required)\, washrooms are near by at the rink\, the park is accessible to all – come any time to enjoy games and family-friendly activities.
URL:https://portblandford.com/event/back-porch-music-series-night-2/
LOCATION:Municipal Park / Amphitheater\, Ballfield road\, Port Blandford\, NL\, A0C2G0\, Canada
ATTACH;FMTTYPE=image/webp:https://portblandford.com/wp-content/uploads/2026/03/BackPorch.webp
ORGANIZER;CN="Community Development Commitee":MAILTO:Info@portblandford.com
END:VEVENT
BEGIN:VEVENT
DTSTART;TZID=UTC:20260722T190000
DTEND;TZID=UTC:20260722T210000
DTSTAMP:20260423T221949
CREATED:20260326T135340Z
LAST-MODIFIED:20260422T185112Z
UID:2440-1784746800-1784754000@portblandford.com
SUMMARY:Back Porch Music Series Night 3
DESCRIPTION:Thank you for your support of the first The Back Porch Music Series at the new amphitheatre in Port Blandford’s municipal park! 2025 was a huge success and we look forward to 2026. \nExperience the best of Newfoundland’s musical talent with six free shows\, open to all. \nThe summer series promises great music\, good company\, and unforgettable evenings under the open sky. Bring your friends\, family\, and a love for live music—see you on the back porch! \nFollow our FACEBOOK for updates.  \n\n\n\n\n\n\n\n\n\n\nTips for the best experience: dress for changing weather (it’s Newfoundland\, anything can happen!)\, you’re welcome to bring food and drinks (sorry no alcohol permitted)\, these are FREE all ages shows (kids are welcome\, no money required)\, washrooms are near by at the rink\, the park is accessible to all – come any time to enjoy games and family-friendly activities.
URL:https://portblandford.com/event/back-porch-music-series-night-3/
LOCATION:Municipal Park / Amphitheater\, Ballfield road\, Port Blandford\, NL\, A0C2G0\, Canada
ORGANIZER;CN="Community Development Commitee":MAILTO:Info@portblandford.com
END:VEVENT
BEGIN:VEVENT
DTSTART;TZID=UTC:20260729T190000
DTEND;TZID=UTC:20260729T210000
DTSTAMP:20260423T221949
CREATED:20260326T140006Z
LAST-MODIFIED:20260422T185126Z
UID:2443-1785351600-1785358800@portblandford.com
SUMMARY:Back Porch Music Series Night 4
DESCRIPTION:Thank you for your support of the first The Back Porch Music Series at the new amphitheatre in Port Blandford’s municipal park! 2025 was a huge success and we look forward to 2026. \nExperience the best of Newfoundland’s musical talent with six free shows\, open to all. \nThe summer series promises great music\, good company\, and unforgettable evenings under the open sky. Bring your friends\, family\, and a love for live music—see you on the back porch! \nFollow our FACEBOOK for updates.  \n\n\n\n\n\n\n\n\n\n\nTips for the best experience: dress for changing weather (it’s Newfoundland\, anything can happen!)\, you’re welcome to bring food and drinks (sorry no alcohol permitted)\, these are FREE all ages shows (kids are welcome\, no money required)\, washrooms are near by at the rink\, the park is accessible to all – come any time to enjoy games and family-friendly activities.
URL:https://portblandford.com/event/back-porch-music-series-night-4/
LOCATION:Municipal Park / Amphitheater\, Ballfield road\, Port Blandford\, NL\, A0C2G0\, Canada
ATTACH;FMTTYPE=image/webp:https://portblandford.com/wp-content/uploads/2026/03/BackPorch.webp
ORGANIZER;CN="Community Development Commitee":MAILTO:Info@portblandford.com
END:VEVENT
BEGIN:VEVENT
DTSTART;TZID=UTC:20260805T070000
DTEND;TZID=UTC:20260805T210000
DTSTAMP:20260423T221949
CREATED:20260326T140233Z
LAST-MODIFIED:20260422T185141Z
UID:2446-1785913200-1785963600@portblandford.com
SUMMARY:Back Porch Music Series Night 5
DESCRIPTION:Thank you for your support of the first The Back Porch Music Series at the new amphitheatre in Port Blandford’s municipal park! 2025 was a huge success and we look forward to 2026. \nExperience the best of Newfoundland’s musical talent with six free shows\, open to all. \nThe summer series promises great music\, good company\, and unforgettable evenings under the open sky. Bring your friends\, family\, and a love for live music—see you on the back porch! \nFollow our FACEBOOK for updates.  \n\n\n\n\n\n\n\n\n\n\nTips for the best experience: dress for changing weather (it’s Newfoundland\, anything can happen!)\, you’re welcome to bring food and drinks (sorry no alcohol permitted)\, these are FREE all ages shows (kids are welcome\, no money required)\, washrooms are near by at the rink\, the park is accessible to all – come any time to enjoy games and family-friendly activities.
URL:https://portblandford.com/event/back-porch-music-series-night-5/
LOCATION:Municipal Park / Amphitheater\, Ballfield road\, Port Blandford\, NL\, A0C2G0\, Canada
ATTACH;FMTTYPE=image/webp:https://portblandford.com/wp-content/uploads/2026/03/BackPorch.webp
ORGANIZER;CN="Community Development Commitee":MAILTO:Info@portblandford.com
END:VEVENT
BEGIN:VEVENT
DTSTART;TZID=UTC:20260812T190000
DTEND;TZID=UTC:20260812T210000
DTSTAMP:20260423T221949
CREATED:20260326T140512Z
LAST-MODIFIED:20260422T185153Z
UID:2448-1786561200-1786568400@portblandford.com
SUMMARY:Back Porch Music Series Night 6
DESCRIPTION:Thank you for your support of the first The Back Porch Music Series at the new amphitheatre in Port Blandford’s municipal park! 2025 was a huge success and we look forward to 2026. \nExperience the best of Newfoundland’s musical talent with six free shows\, open to all. \nThe summer series promises great music\, good company\, and unforgettable evenings under the open sky. Bring your friends\, family\, and a love for live music—see you on the back porch! \nFollow our FACEBOOK for updates.  \n\n\n\n\n\n\n\n\n\n\nTips for the best experience: dress for changing weather (it’s Newfoundland\, anything can happen!)\, you’re welcome to bring food and drinks (sorry no alcohol permitted)\, these are FREE all ages shows (kids are welcome\, no money required)\, washrooms are near by at the rink\, the park is accessible to all – come any time to enjoy games and family-friendly activities.
URL:https://portblandford.com/event/back-porch-music-series-night-6/
LOCATION:Municipal Park / Amphitheater\, Ballfield road\, Port Blandford\, NL\, A0C2G0\, Canada
ATTACH;FMTTYPE=image/webp:https://portblandford.com/wp-content/uploads/2026/03/BackPorch.webp
ORGANIZER;CN="Community Development Commitee":MAILTO:Info@portblandford.com
END:VEVENT
BEGIN:VEVENT
DTSTART;VALUE=DATE:20260925
DTEND;VALUE=DATE:20260928
DTSTAMP:20260423T221949
CREATED:20260324T162705Z
LAST-MODIFIED:20260324T172541Z
UID:2374-1790294400-1790553599@portblandford.com
SUMMARY:AppleFest!
DESCRIPTION:Our biggest event of the year! The festival offers family-friendly activities\, crafters market\, community events\, live entertainment\, and of course\, apples! Visit during arguably the most beautiful time of year! The Saturday night Concert in the Park is a must-see (ages 19+\, tickets required). Follow their Facebook page for schedules\, tickets\, and updates!
URL:https://portblandford.com/event/applefest/
LOCATION:Municipal Park / Amphitheater\, Ballfield road\, Port Blandford\, NL\, A0C2G0\, Canada
ATTACH;FMTTYPE=image/jpeg:https://portblandford.com/wp-content/uploads/2024/10/7T4A0239.jpg
ORGANIZER;CN="AppleFest! Commitee":MAILTO:Applefest@portblandford.com
END:VEVENT
BEGIN:VEVENT
DTSTART;TZID=UTC:20261019T190000
DTEND;TZID=UTC:20261031T210000
DTSTAMP:20260423T221949
CREATED:20260324T173859Z
LAST-MODIFIED:20260324T173859Z
UID:2425-1792436400-1793480400@portblandford.com
SUMMARY:Pumpkin Walk\, 2026 info to come…
DESCRIPTION:A yearly family-friendly fundraiser for the Children’s Make-A-Wish foundation in honour of Shelley Adams. Get dressed up for a good cause at the Municipal Park for free treats\, music\, and more! Hosted by the Recreation Committee\, follow the town’s Facebook page for updates.
URL:https://portblandford.com/event/pumpkin-walk-2026-info-to-come/
LOCATION:Municipal Park / Amphitheater\, Ballfield road\, Port Blandford\, NL\, A0C2G0\, Canada
ATTACH;FMTTYPE=image/webp:https://portblandford.com/wp-content/uploads/2026/03/7T4A3349.webp
END:VEVENT
BEGIN:VEVENT
DTSTART;TZID=UTC:20261219T190000
DTEND;TZID=UTC:20261219T210000
DTSTAMP:20260423T221949
CREATED:20260324T174030Z
LAST-MODIFIED:20260325T212617Z
UID:2427-1797706800-1797714000@portblandford.com
SUMMARY:Mummers Parade (DATE TBD)
DESCRIPTION:Step into tradition one merry\, masked step at a time! Back again for another year of rowdy and ridiculous fun! Dress up or just come to gawk. Watch our social media for more info.
URL:https://portblandford.com/event/mummersparade/
LOCATION:Municipal Park / Amphitheater\, Ballfield road\, Port Blandford\, NL\, A0C2G0\, Canada
ATTACH;FMTTYPE=image/webp:https://portblandford.com/wp-content/uploads/2026/03/Mummers-Parade.webp
ORGANIZER;CN="Community Development Commitee":MAILTO:Info@portblandford.com
END:VEVENT
END:VCALENDAR